Workbook

Sheet BGS PTY23 Cost Alloc
B1: Jersey Central Power & Light
B2: Attachment 2
B3: ='BGS PTY25 Cost Alloc'!$B$3 -> 2027 BGS Auction Cost and Bid Factor Tables
B5: 2025/2026 BGS Supply Period Estimated Supplier Payments Allocated by Rate Class
B8: Development of Post Transition Period BGS Cost and Bid Factors
B9: Adjusted to Billing Time Periods
E10: ='BGS PTY25 Cost Alloc'!$E$10 -> Based on an average of 2023, 2024 and 2025 Load Information
A11: Table #1 | B11: % Usage During PJM On-Peak Period | E11: On-Peak periods defined as the 16 hr PJM Trading period, adj for NERC holidays | Q11: % usage during Off-Peak period
E12: Profile Meter Data | F12: Profile Meter Data | G12: Profile Meter Data | H12: Profile Meter Data | I12: Other Analysis | Q12: Profile Meter Data | R12: Profile Meter Data | S12: Profile Meter Data | T12: Profile Meter Data | U12: Other Analysis
B13: (data rounded to nearest .01 %) | E13: RT{1} | F13: RS{2} | G13: GS{3} | H13: GST | I13: OL/SL | Q13: =+E13 -> RT{1} | R13: =+F13 -> RS{2} | S13: =+G13 -> GS{3} | T13: =+H13 -> GST | U13: =+I13 -> OL/SL
B15: January | E15: ='BGS PTY25 Cost Alloc'!E15 -> 0.4788 | F15: ='BGS PTY25 Cost Alloc'!F15 -> 0.4914 | G15: ='BGS PTY25 Cost Alloc'!G15 -> 0.5069 | H15: ='BGS PTY25 Cost Alloc'!H15 -> 0.5078 | I15: ='BGS PTY25 Cost Alloc'!I15 -> 0.3115 | Q15: =1-E15 -> 0.5212 | R15: =1-F15 -> 0.5086 | S15: =1-G15 -> 0.4931 | T15: =1-H15 -> 0.4922 | U15: =1-I15 -> 0.6885
B16: February | E16: ='BGS PTY25 Cost Alloc'!E16 -> 0.4777 | F16: ='BGS PTY25 Cost Alloc'!F16 -> 0.4944 | G16: ='BGS PTY25 Cost Alloc'!G16 -> 0.5108 | H16: ='BGS PTY25 Cost Alloc'!H16 -> 0.5125 | I16: ='BGS PTY25 Cost Alloc'!I16 -> 0.294 | Q16: =1-E16 -> 0.5223 | R16: =1-F16 -> 0.5056 | S16: =1-G16 -> 0.4892 | T16: =1-H16 -> 0.4875 | U16: =1-I16 -> 0.706
B17: March | E17: ='BGS PTY25 Cost Alloc'!E17 -> 0.4867 | F17: ='BGS PTY25 Cost Alloc'!F17 -> 0.5035 | G17: ='BGS PTY25 Cost Alloc'!G17 -> 0.5195 | H17: ='BGS PTY25 Cost Alloc'!H17 -> 0.5017 | I17: ='BGS PTY25 Cost Alloc'!I17 -> 0.2854 | Q17: =1-E17 -> 0.5133 | R17: =1-F17 -> 0.4965 | S17: =1-G17 -> 0.4805 | T17: =1-H17 -> 0.4983 | U17: =1-I17 -> 0.7146
B18: April | E18: ='BGS PTY25 Cost Alloc'!E18 -> 0.4779 | F18: ='BGS PTY25 Cost Alloc'!F18 -> 0.5003 | G18: ='BGS PTY25 Cost Alloc'!G18 -> 0.5139 | H18: ='BGS PTY25 Cost Alloc'!H18 -> 0.5313 | I18: ='BGS PTY25 Cost Alloc'!I18 -> 0.2904 | Q18: =1-E18 -> 0.5221 | R18: =1-F18 -> 0.4997 | S18: =1-G18 -> 0.4861 | T18: =1-H18 -> 0.4687 | U18: =1-I18 -> 0.7096
B19: May | E19: ='BGS PTY25 Cost Alloc'!E19 -> 0.4764 | F19: ='BGS PTY25 Cost Alloc'!F19 -> 0.4943 | G19: ='BGS PTY25 Cost Alloc'!G19 -> 0.5121 | H19: ='BGS PTY25 Cost Alloc'!H19 -> 0.5075 | I19: ='BGS PTY25 Cost Alloc'!I19 -> 0.2823 | Q19: =1-E19 -> 0.5236 | R19: =1-F19 -> 0.5057 | S19: =1-G19 -> 0.4879 | T19: =1-H19 -> 0.4925 | U19: =1-I19 -> 0.7177
B20: June | E20: ='BGS PTY25 Cost Alloc'!E20 -> 0.5235 | F20: ='BGS PTY25 Cost Alloc'!F20 -> 0.5402 | G20: ='BGS PTY25 Cost Alloc'!G20 -> 0.5549 | H20: ='BGS PTY25 Cost Alloc'!H20 -> 0.5528 | I20: ='BGS PTY25 Cost Alloc'!I20 -> 0.2733 | Q20: =1-E20 -> 0.4765 | R20: =1-F20 -> 0.4598 | S20: =1-G20 -> 0.4451 | T20: =1-H20 -> 0.4472 | U20: =1-I20 -> 0.7267
B21: July | E21: ='BGS PTY25 Cost Alloc'!E21 -> 0.523 | F21: ='BGS PTY25 Cost Alloc'!F21 -> 0.537 | G21: ='BGS PTY25 Cost Alloc'!G21 -> 0.5551 | H21: ='BGS PTY25 Cost Alloc'!H21 -> 0.5617 | I21: ='BGS PTY25 Cost Alloc'!I21 -> 0.2644 | Q21: =1-E21 -> 0.477 | R21: =1-F21 -> 0.463 | S21: =1-G21 -> 0.4449 | T21: =1-H21 -> 0.4383 | U21: =1-I21 -> 0.7356
B22: August | E22: ='BGS PTY25 Cost Alloc'!E22 -> 0.516 | F22: ='BGS PTY25 Cost Alloc'!F22 -> 0.5292 | G22: ='BGS PTY25 Cost Alloc'!G22 -> 0.5565 | H22: ='BGS PTY25 Cost Alloc'!H22 -> 0.5549 | I22: ='BGS PTY25 Cost Alloc'!I22 -> 0.2826 | Q22: =1-E22 -> 0.484 | R22: =1-F22 -> 0.4708 | S22: =1-G22 -> 0.4435 | T22: =1-H22 -> 0.4451 | U22: =1-I22 -> 0.7174
B23: September | E23: ='BGS PTY25 Cost Alloc'!E23 -> 0.4799 | F23: ='BGS PTY25 Cost Alloc'!F23 -> 0.4961 | G23: ='BGS PTY25 Cost Alloc'!G23 -> 0.5352 | H23: ='BGS PTY25 Cost Alloc'!H23 -> 0.5541 | I23: ='BGS PTY25 Cost Alloc'!I23 -> 0.2869 | Q23: =1-E23 -> 0.5201 | R23: =1-F23 -> 0.5039 | S23: =1-G23 -> 0.4648 | T23: =1-H23 -> 0.4459 | U23: =1-I23 -> 0.7131
B24: October | E24: ='BGS PTY25 Cost Alloc'!E24 -> 0.5049 | F24: ='BGS PTY25 Cost Alloc'!F24 -> 0.525 | G24: ='BGS PTY25 Cost Alloc'!G24 -> 0.5637 | H24: ='BGS PTY25 Cost Alloc'!H24 -> 0.5921 | I24: ='BGS PTY25 Cost Alloc'!I24 -> 0.3242 | Q24: =1-E24 -> 0.4951 | R24: =1-F24 -> 0.475 | S24: =1-G24 -> 0.4363 | T24: =1-H24 -> 0.4079 | U24: =1-I24 -> 0.6758
B25: November | E25: ='BGS PTY25 Cost Alloc'!E25 -> 0.4512 | F25: ='BGS PTY25 Cost Alloc'!F25 -> 0.4731 | G25: ='BGS PTY25 Cost Alloc'!G25 -> 0.5108 | H25: ='BGS PTY25 Cost Alloc'!H25 -> 0.5239 | I25: ='BGS PTY25 Cost Alloc'!I25 -> 0.2962 | Q25: =1-E25 -> 0.5488 | R25: =1-F25 -> 0.5269 | S25: =1-G25 -> 0.4892 | T25: =1-H25 -> 0.4761 | U25: =1-I25 -> 0.7038
B26: December | E26: ='BGS PTY25 Cost Alloc'!E26 -> 0.4583 | F26: ='BGS PTY25 Cost Alloc'!F26 -> 0.4784 | G26: ='BGS PTY25 Cost Alloc'!G26 -> 0.5094 | H26: ='BGS PTY25 Cost Alloc'!H26 -> 0.5367 | I26: ='BGS PTY25 Cost Alloc'!I26 -> 0.305 | Q26: =1-E26 -> 0.5417 | R26: =1-F26 -> 0.5216 | S26: =1-G26 -> 0.4906 | T26: =1-H26 -> 0.4633 | U26: =1-I26 -> 0.695
A29: Table #2 | B29: % Usage During JCP&L On-Peak Billing Period | F29: On-Peak periods as defined in specified rate schedule
E30: ='BGS PTY25 Cost Alloc'!$E$30 -> 2026 Forecasted Calendar Month Sales | F30: N/A | G30: N/A | H30: ='BGS PTY25 Cost Alloc'!$E$30 -> 2026 Forecasted Calendar Month Sales | I30: N/A | Q30: ='BGS PTY25 Cost Alloc'!Q30 -> 2026 Forecasted Calendar Month Sales | R30: N/A | S30: N/A | T30: ='BGS PTY25 Cost Alloc'!T30 -> 2026 Forecasted Calendar Month Sales | U30: N/A
B31: (data rounded to nearest .01 %) | E31: =+E$13 -> RT{1} | F31: =+F$13 -> RS{2} | G31: =+G$13 -> GS{3} | H31: =+H$13 -> GST | I31: =+I$13 -> OL/SL | Q31: =+Q$13 -> RT{1} | R31: =+R$13 -> RS{2} | S31: =+S$13 -> GS{3} | T31: =+T$13 -> GST | U31: =+U$13 -> OL/SL
B33: January | E33: ='BGS PTY25 Cost Alloc'!E33 -> 0.3497 | F33: ---- | G33: ---- | H33: ='BGS PTY25 Cost Alloc'!H33 -> 0.4171 | I33: ---- | Q33: =1-E33 -> 0.6503 | T33: =1-H33 -> 0.5829
B34: February | E34: ='BGS PTY25 Cost Alloc'!E34 -> 0.3428 | F34: ---- | G34: ---- | H34: ='BGS PTY25 Cost Alloc'!H34 -> 0.4186 | I34: ---- | Q34: =1-E34 -> 0.6572 | T34: =1-H34 -> 0.5814
B35: March | E35: ='BGS PTY25 Cost Alloc'!E35 -> 0.3394 | F35: ---- | G35: ---- | H35: ='BGS PTY25 Cost Alloc'!H35 -> 0.4184 | I35: ---- | Q35: =1-E35 -> 0.6606 | T35: =1-H35 -> 0.5816
B36: April | E36: ='BGS PTY25 Cost Alloc'!E36 -> 0.3494 | F36: ---- | G36: ---- | H36: ='BGS PTY25 Cost Alloc'!H36 -> 0.4286 | I36: ---- | Q36: =1-E36 -> 0.6506 | T36: =1-H36 -> 0.5714
B37: May | E37: ='BGS PTY25 Cost Alloc'!E37 -> 0.3693 | F37: ---- | G37: ---- | H37: ='BGS PTY25 Cost Alloc'!H37 -> 0.4441 | I37: ---- | Q37: =1-E37 -> 0.6307 | T37: =1-H37 -> 0.5559
B38: June | E38: ='BGS PTY25 Cost Alloc'!E38 -> 0.4003 | F38: ---- | G38: ---- | H38: ='BGS PTY25 Cost Alloc'!H38 -> 0.4565 | I38: ---- | Q38: =1-E38 -> 0.5997 | T38: =1-H38 -> 0.5435
B39: July | E39: ='BGS PTY25 Cost Alloc'!E39 -> 0.4173 | F39: ---- | G39: ---- | H39: ='BGS PTY25 Cost Alloc'!H39 -> 0.4546 | I39: ---- | Q39: =1-E39 -> 0.5827 | T39: =1-H39 -> 0.5454
B40: August | E40: ='BGS PTY25 Cost Alloc'!E40 -> 0.4145 | F40: ---- | G40: ---- | H40: ='BGS PTY25 Cost Alloc'!H40 -> 0.4523 | I40: ---- | Q40: =1-E40 -> 0.5855 | T40: =1-H40 -> 0.5477
B41: September | E41: ='BGS PTY25 Cost Alloc'!E41 -> 0.3929 | F41: ---- | G41: ---- | H41: ='BGS PTY25 Cost Alloc'!H41 -> 0.4518 | I41: ---- | Q41: =1-E41 -> 0.6071 | T41: =1-H41 -> 0.5482
B42: October | E42: ='BGS PTY25 Cost Alloc'!E42 -> 0.3602 | F42: ---- | G42: ---- | H42: ='BGS PTY25 Cost Alloc'!H42 -> 0.4515 | I42: ---- | Q42: =1-E42 -> 0.6398 | T42: =1-H42 -> 0.5485
B43: November | E43: ='BGS PTY25 Cost Alloc'!E43 -> 0.3499 | F43: ---- | G43: ---- | H43: ='BGS PTY25 Cost Alloc'!H43 -> 0.4418 | I43: ---- | Q43: =1-E43 -> 0.6501 | T43: =1-H43 -> 0.5582
B44: December | E44: ='BGS PTY25 Cost Alloc'!E44 -> 0.3493 | F44: ---- | G44: ---- | H44: ='BGS PTY25 Cost Alloc'!H44 -> 0.4289 | I44: ---- | Q44: =1-E44 -> 0.6507 | T44: =1-H44 -> 0.5711
B46: {1} For BGS purposes the RT rate class includes the RS and GS rate class Off-Peak (OPWH) and Controlled Water Heating (CTWH) provisions. The RT rate class also includes the
B47: summer billing month RGT rate class usage. OPWH and CTWH is billed on the average RT rates, while RT and Summer RGT use is billed at on-peak and off-peak rates.
B48: {2} For BGS purposes the RS rate class excludes the Off-Peak and Controlled Water Heating provisions and includes
...

Sheet BGS PTY24 Cost Alloc
B1: Jersey Central Power & Light
B2: Attachment 2
B3: ='BGS PTY25 Cost Alloc'!$B$3 -> 2027 BGS Auction Cost and Bid Factor Tables
B5: 2026/2027 BGS Supply Period Estimated Supplier Payments Allocated by Rate Class
B8: Development of Post Transition Period BGS Cost and Bid Factors
B9: Adjusted to Billing Time Periods
E10: ='BGS PTY25 Cost Alloc'!$E$10 -> Based on an average of 2023, 2024 and 2025 Load Information
A11: Table #1 | B11: % Usage During PJM On-Peak Period | E11: On-Peak periods defined as the 16 hr PJM Trading period, adj for NERC holidays | Q11: % usage during Off-Peak period
E12: Profile Meter Data | F12: Profile Meter Data | G12: Profile Meter Data | H12: Profile Meter Data | I12: Other Analysis | Q12: Profile Meter Data | R12: Profile Meter Data | S12: Profile Meter Data | T12: Profile Meter Data | U12: Other Analysis
B13: (data rounded to nearest .01 %) | E13: RT{1} | F13: RS{2} | G13: GS{3} | H13: GST | I13: OL/SL | Q13: =+E13 -> RT{1} | R13: =+F13 -> RS{2} | S13: =+G13 -> GS{3} | T13: =+H13 -> GST | U13: =+I13 -> OL/SL
B15: January | E15: ='BGS PTY25 Cost Alloc'!E15 -> 0.4788 | F15: ='BGS PTY25 Cost Alloc'!F15 -> 0.4914 | G15: ='BGS PTY25 Cost Alloc'!G15 -> 0.5069 | H15: ='BGS PTY25 Cost Alloc'!H15 -> 0.5078 | I15: ='BGS PTY25 Cost Alloc'!I15 -> 0.3115 | Q15: =1-E15 -> 0.5212 | R15: =1-F15 -> 0.5086 | S15: =1-G15 -> 0.4931 | T15: =1-H15 -> 0.4922 | U15: =1-I15 -> 0.6885
B16: February | E16: ='BGS PTY25 Cost Alloc'!E16 -> 0.4777 | F16: ='BGS PTY25 Cost Alloc'!F16 -> 0.4944 | G16: ='BGS PTY25 Cost Alloc'!G16 -> 0.5108 | H16: ='BGS PTY25 Cost Alloc'!H16 -> 0.5125 | I16: ='BGS PTY25 Cost Alloc'!I16 -> 0.294 | Q16: =1-E16 -> 0.5223 | R16: =1-F16 -> 0.5056 | S16: =1-G16 -> 0.4892 | T16: =1-H16 -> 0.4875 | U16: =1-I16 -> 0.706
B17: March | E17: ='BGS PTY25 Cost Alloc'!E17 -> 0.4867 | F17: ='BGS PTY25 Cost Alloc'!F17 -> 0.5035 | G17: ='BGS PTY25 Cost Alloc'!G17 -> 0.5195 | H17: ='BGS PTY25 Cost Alloc'!H17 -> 0.5017 | I17: ='BGS PTY25 Cost Alloc'!I17 -> 0.2854 | Q17: =1-E17 -> 0.5133 | R17: =1-F17 -> 0.4965 | S17: =1-G17 -> 0.4805 | T17: =1-H17 -> 0.4983 | U17: =1-I17 -> 0.7146
B18: April | E18: ='BGS PTY25 Cost Alloc'!E18 -> 0.4779 | F18: ='BGS PTY25 Cost Alloc'!F18 -> 0.5003 | G18: ='BGS PTY25 Cost Alloc'!G18 -> 0.5139 | H18: ='BGS PTY25 Cost Alloc'!H18 -> 0.5313 | I18: ='BGS PTY25 Cost Alloc'!I18 -> 0.2904 | Q18: =1-E18 -> 0.5221 | R18: =1-F18 -> 0.4997 | S18: =1-G18 -> 0.4861 | T18: =1-H18 -> 0.4687 | U18: =1-I18 -> 0.7096
B19: May | E19: ='BGS PTY25 Cost Alloc'!E19 -> 0.4764 | F19: ='BGS PTY25 Cost Alloc'!F19 -> 0.4943 | G19: ='BGS PTY25 Cost Alloc'!G19 -> 0.5121 | H19: ='BGS PTY25 Cost Alloc'!H19 -> 0.5075 | I19: ='BGS PTY25 Cost Alloc'!I19 -> 0.2823 | Q19: =1-E19 -> 0.5236 | R19: =1-F19 -> 0.5057 | S19: =1-G19 -> 0.4879 | T19: =1-H19 -> 0.4925 | U19: =1-I19 -> 0.7177
B20: June | E20: ='BGS PTY25 Cost Alloc'!E20 -> 0.5235 | F20: ='BGS PTY25 Cost Alloc'!F20 -> 0.5402 | G20: ='BGS PTY25 Cost Alloc'!G20 -> 0.5549 | H20: ='BGS PTY25 Cost Alloc'!H20 -> 0.5528 | I20: ='BGS PTY25 Cost Alloc'!I20 -> 0.2733 | Q20: =1-E20 -> 0.4765 | R20: =1-F20 -> 0.4598 | S20: =1-G20 -> 0.4451 | T20: =1-H20 -> 0.4472 | U20: =1-I20 -> 0.7267
B21: July | E21: ='BGS PTY25 Cost Alloc'!E21 -> 0.523 | F21: ='BGS PTY25 Cost Alloc'!F21 -> 0.537 | G21: ='BGS PTY25 Cost Alloc'!G21 -> 0.5551 | H21: ='BGS PTY25 Cost Alloc'!H21 -> 0.5617 | I21: ='BGS PTY25 Cost Alloc'!I21 -> 0.2644 | Q21: =1-E21 -> 0.477 | R21: =1-F21 -> 0.463 | S21: =1-G21 -> 0.4449 | T21: =1-H21 -> 0.4383 | U21: =1-I21 -> 0.7356
B22: August | E22: ='BGS PTY25 Cost Alloc'!E22 -> 0.516 | F22: ='BGS PTY25 Cost Alloc'!F22 -> 0.5292 | G22: ='BGS PTY25 Cost Alloc'!G22 -> 0.5565 | H22: ='BGS PTY25 Cost Alloc'!H22 -> 0.5549 | I22: ='BGS PTY25 Cost Alloc'!I22 -> 0.2826 | Q22: =1-E22 -> 0.484 | R22: =1-F22 -> 0.4708 | S22: =1-G22 -> 0.4435 | T22: =1-H22 -> 0.4451 | U22: =1-I22 -> 0.7174
B23: September | E23: ='BGS PTY25 Cost Alloc'!E23 -> 0.4799 | F23: ='BGS PTY25 Cost Alloc'!F23 -> 0.4961 | G23: ='BGS PTY25 Cost Alloc'!G23 -> 0.5352 | H23: ='BGS PTY25 Cost Alloc'!H23 -> 0.5541 | I23: ='BGS PTY25 Cost Alloc'!I23 -> 0.2869 | Q23: =1-E23 -> 0.5201 | R23: =1-F23 -> 0.5039 | S23: =1-G23 -> 0.4648 | T23: =1-H23 -> 0.4459 | U23: =1-I23 -> 0.7131
B24: October | E24: ='BGS PTY25 Cost Alloc'!E24 -> 0.5049 | F24: ='BGS PTY25 Cost Alloc'!F24 -> 0.525 | G24: ='BGS PTY25 Cost Alloc'!G24 -> 0.5637 | H24: ='BGS PTY25 Cost Alloc'!H24 -> 0.5921 | I24: ='BGS PTY25 Cost Alloc'!I24 -> 0.3242 | Q24: =1-E24 -> 0.4951 | R24: =1-F24 -> 0.475 | S24: =1-G24 -> 0.4363 | T24: =1-H24 -> 0.4079 | U24: =1-I24 -> 0.6758
B25: November | E25: ='BGS PTY25 Cost Alloc'!E25 -> 0.4512 | F25: ='BGS PTY25 Cost Alloc'!F25 -> 0.4731 | G25: ='BGS PTY25 Cost Alloc'!G25 -> 0.5108 | H25: ='BGS PTY25 Cost Alloc'!H25 -> 0.5239 | I25: ='BGS PTY25 Cost Alloc'!I25 -> 0.2962 | Q25: =1-E25 -> 0.5488 | R25: =1-F25 -> 0.5269 | S25: =1-G25 -> 0.4892 | T25: =1-H25 -> 0.4761 | U25: =1-I25 -> 0.7038
B26: December | E26: ='BGS PTY25 Cost Alloc'!E26 -> 0.4583 | F26: ='BGS PTY25 Cost Alloc'!F26 -> 0.4784 | G26: ='BGS PTY25 Cost Alloc'!G26 -> 0.5094 | H26: ='BGS PTY25 Cost Alloc'!H26 -> 0.5367 | I26: ='BGS PTY25 Cost Alloc'!I26 -> 0.305 | Q26: =1-E26 -> 0.5417 | R26: =1-F26 -> 0.5216 | S26: =1-G26 -> 0.4906 | T26: =1-H26 -> 0.4633 | U26: =1-I26 -> 0.695
A29: Table #2 | B29: % Usage During JCP&L On-Peak Billing Period | F29: On-Peak periods as defined in specified rate schedule
E30: ='BGS PTY25 Cost Alloc'!$E$30 -> 2026 Forecasted Calendar Month Sales | F30: N/A | G30: N/A | H30: ='BGS PTY25 Cost Alloc'!$E$30 -> 2026 Forecasted Calendar Month Sales | I30: N/A | Q30: ='BGS PTY25 Cost Alloc'!Q30 -> 2026 Forecasted Calendar Month Sales | R30: N/A | S30: N/A | T30: ='BGS PTY25 Cost Alloc'!T30 -> 2026 Forecasted Calendar Month Sales | U30: N/A
B31: (data rounded to nearest .01 %) | E31: =+E$13 -> RT{1} | F31: =+F$13 -> RS{2} | G31: =+G$13 -> GS{3} | H31: =+H$13 -> GST | I31: =+I$13 -> OL/SL | Q31: =+Q$13 -> RT{1} | R31: =+R$13 -> RS{2} | S31: =+S$13 -> GS{3} | T31: =+T$13 -> GST | U31: =+U$13 -> OL/SL
B33: January | E33: ='BGS PTY25 Cost Alloc'!E33 -> 0.3497 | F33: ---- | G33: ---- | H33: ='BGS PTY25 Cost Alloc'!H33 -> 0.4171 | I33: ---- | Q33: =1-E33 -> 0.6503 | T33: =1-H33 -> 0.5829
B34: February | E34: ='BGS PTY25 Cost Alloc'!E34 -> 0.3428 | F34: ---- | G34: ---- | H34: ='BGS PTY25 Cost Alloc'!H34 -> 0.4186 | I34: ---- | Q34: =1-E34 -> 0.6572 | T34: =1-H34 -> 0.5814
B35: March | E35: ='BGS PTY25 Cost Alloc'!E35 -> 0.3394 | F35: ---- | G35: ---- | H35: ='BGS PTY25 Cost Alloc'!H35 -> 0.4184 | I35: ---- | Q35: =1-E35 -> 0.6606 | T35: =1-H35 -> 0.5816
B36: April | E36: ='BGS PTY25 Cost Alloc'!E36 -> 0.3494 | F36: ---- | G36: ---- | H36: ='BGS PTY25 Cost Alloc'!H36 -> 0.4286 | I36: ---- | Q36: =1-E36 -> 0.6506 | T36: =1-H36 -> 0.5714
B37: May | E37: ='BGS PTY25 Cost Alloc'!E37 -> 0.3693 | F37: ---- | G37: ---- | H37: ='BGS PTY25 Cost Alloc'!H37 -> 0.4441 | I37: ---- | Q37: =1-E37 -> 0.6307 | T37: =1-H37 -> 0.5559
B38: June | E38: ='BGS PTY25 Cost Alloc'!E38 -> 0.4003 | F38: ---- | G38: ---- | H38: ='BGS PTY25 Cost Alloc'!H38 -> 0.4565 | I38: ---- | Q38: =1-E38 -> 0.5997 | T38: =1-H38 -> 0.5435
B39: July | E39: ='BGS PTY25 Cost Alloc'!E39 -> 0.4173 | F39: ---- | G39: ---- | H39: ='BGS PTY25 Cost Alloc'!H39 -> 0.4546 | I39: ---- | Q39: =1-E39 -> 0.5827 | T39: =1-H39 -> 0.5454
B40: August | E40: ='BGS PTY25 Cost Alloc'!E40 -> 0.4145 | F40: ---- | G40: ---- | H40: ='BGS PTY25 Cost Alloc'!H40 -> 0.4523 | I40: ---- | Q40: =1-E40 -> 0.5855 | T40: =1-H40 -> 0.5477
B41: September | E41: ='BGS PTY25 Cost Alloc'!E41 -> 0.3929 | F41: ---- | G41: ---- | H41: ='BGS PTY25 Cost Alloc'!H41 -> 0.4518 | I41: ---- | Q41: =1-E41 -> 0.6071 | T41: =1-H41 -> 0.5482
B42: October | E42: ='BGS PTY25 Cost Alloc'!E42 -> 0.3602 | F42: ---- | G42: ---- | H42: ='BGS PTY25 Cost Alloc'!H42 -> 0.4515 | I42: ---- | Q42: =1-E42 -> 0.6398 | T42: =1-H42 -> 0.5485
B43: November | E43: ='BGS PTY25 Cost Alloc'!E43 -> 0.3499 | F43: ---- | G43: ---- | H43: ='BGS PTY25 Cost Alloc'!H43 -> 0.4418 | I43: ---- | Q43: =1-E43 -> 0.6501 | T43: =1-H43 -> 0.5582
B44: December | E44: ='BGS PTY25 Cost Alloc'!E44 -> 0.3493 | F44: ---- | G44: ---- | H44: ='BGS PTY25 Cost Alloc'!H44 -> 0.4289 | I44: ---- | Q44: =1-E44 -> 0.6507 | T44: =1-H44 -> 0.5711
B46: {1} For BGS purposes the RT rate class includes the RS and GS rate class Off-Peak (OPWH) and Controlled Water Heating (CTWH) provisions. The RT rate class also includes the
B47: summer billing month RGT rate class usage. OPWH and CTWH is billed on the average RT rates, while RT and Summer RGT use is billed at on-peak and off-peak rates.
B48: {2} For BGS purposes the RS rate class excludes the Off-Peak and Controlled Water Heating provisions and includes
...

Sheet BGS PTY25 Cost Alloc
B1: Jersey Central Power & Light
B2: Attachment 2
B3: 2027 BGS Auction Cost and Bid Factor Tables
B5: 2027/2028 BGS Supply Period Estimated Supplier Payments Allocated by Rate Class
B8: Development of Post Transition Period BGS Cost and Bid Factors
B9: Adjusted to Billing Time Periods
E10: Based on an average of 2023, 2024 and 2025 Load Information
A11: Table #1 | B11: % Usage During PJM On-Peak Period | E11: On-Peak periods defined as the 16 hr PJM Trading period, adj for NERC holidays | Q11: % usage during Off-Peak period
E12: Profile Meter Data | F12: Profile Meter Data | G12: Profile Meter Data | H12: Profile Meter Data | I12: Other Analysis | Q12: Profile Meter Data | R12: Profile Meter Data | S12: Profile Meter Data | T12: Profile Meter Data | U12: Other Analysis
B13: (data rounded to nearest .01 %) | E13: RT{1} | F13: RS{2} | G13: GS{3} | H13: GST | I13: OL/SL | Q13: =+E13 -> RT{1} | R13: =+F13 -> RS{2} | S13: =+G13 -> GS{3} | T13: =+H13 -> GST | U13: =+I13 -> OL/SL
B15: January | E15: 0.4788 | F15: 0.4914 | G15: 0.5069 | H15: 0.5078 | I15: 0.3115 | Q15: =1-E15 -> 0.5212 | R15: =1-F15 -> 0.5086 | S15: =1-G15 -> 0.4931 | T15: =1-H15 -> 0.4922 | U15: =1-I15 -> 0.6885
B16: February | E16: 0.4777 | F16: 0.4944 | G16: 0.5108 | H16: 0.5125 | I16: 0.294 | Q16: =1-E16 -> 0.5223 | R16: =1-F16 -> 0.5056 | S16: =1-G16 -> 0.4892 | T16: =1-H16 -> 0.4875 | U16: =1-I16 -> 0.706
B17: March | E17: 0.4867 | F17: 0.5035 | G17: 0.5195 | H17: 0.5017 | I17: 0.2854 | Q17: =1-E17 -> 0.5133 | R17: =1-F17 -> 0.4965 | S17: =1-G17 -> 0.4805 | T17: =1-H17 -> 0.4983 | U17: =1-I17 -> 0.7146
B18: April | E18: 0.4779 | F18: 0.5003 | G18: 0.5139 | H18: 0.5313 | I18: 0.2904 | Q18: =1-E18 -> 0.5221 | R18: =1-F18 -> 0.4997 | S18: =1-G18 -> 0.4861 | T18: =1-H18 -> 0.4687 | U18: =1-I18 -> 0.7096
B19: May | E19: 0.4764 | F19: 0.4943 | G19: 0.5121 | H19: 0.5075 | I19: 0.2823 | Q19: =1-E19 -> 0.5236 | R19: =1-F19 -> 0.5057 | S19: =1-G19 -> 0.4879 | T19: =1-H19 -> 0.4925 | U19: =1-I19 -> 0.7177
B20: June | E20: 0.5235 | F20: 0.5402 | G20: 0.5549 | H20: 0.5528 | I20: 0.2733 | Q20: =1-E20 -> 0.4765 | R20: =1-F20 -> 0.4598 | S20: =1-G20 -> 0.4451 | T20: =1-H20 -> 0.4472 | U20: =1-I20 -> 0.7267
B21: July | E21: 0.523 | F21: 0.537 | G21: 0.5551 | H21: 0.5617 | I21: 0.2644 | Q21: =1-E21 -> 0.477 | R21: =1-F21 -> 0.463 | S21: =1-G21 -> 0.4449 | T21: =1-H21 -> 0.4383 | U21: =1-I21 -> 0.7356
B22: August | E22: 0.516 | F22: 0.5292 | G22: 0.5565 | H22: 0.5549 | I22: 0.2826 | Q22: =1-E22 -> 0.484 | R22: =1-F22 -> 0.4708 | S22: =1-G22 -> 0.4435 | T22: =1-H22 -> 0.4451 | U22: =1-I22 -> 0.7174
B23: September | E23: 0.4799 | F23: 0.4961 | G23: 0.5352 | H23: 0.5541 | I23: 0.2869 | Q23: =1-E23 -> 0.5201 | R23: =1-F23 -> 0.5039 | S23: =1-G23 -> 0.4648 | T23: =1-H23 -> 0.4459 | U23: =1-I23 -> 0.7131
B24: October | E24: 0.5049 | F24: 0.525 | G24: 0.5637 | H24: 0.5921 | I24: 0.3242 | Q24: =1-E24 -> 0.4951 | R24: =1-F24 -> 0.475 | S24: =1-G24 -> 0.4363 | T24: =1-H24 -> 0.4079 | U24: =1-I24 -> 0.6758
B25: November | E25: 0.4512 | F25: 0.4731 | G25: 0.5108 | H25: 0.5239 | I25: 0.2962 | Q25: =1-E25 -> 0.5488 | R25: =1-F25 -> 0.5269 | S25: =1-G25 -> 0.4892 | T25: =1-H25 -> 0.4761 | U25: =1-I25 -> 0.7038
B26: December | E26: 0.4583 | F26: 0.4784 | G26: 0.5094 | H26: 0.5367 | I26: 0.305 | Q26: =1-E26 -> 0.5417 | R26: =1-F26 -> 0.5216 | S26: =1-G26 -> 0.4906 | T26: =1-H26 -> 0.4633 | U26: =1-I26 -> 0.695
A29: Table #2 | B29: % Usage During JCP&L On-Peak Billing Period | F29: On-Peak periods as defined in specified rate schedule
E30: 2026 Forecasted Calendar Month Sales | F30: N/A | G30: N/A | H30: 2026 Forecasted Calendar Month Sales | I30: N/A | Q30: =E30 -> 2026 Forecasted Calendar Month Sales | R30: N/A | S30: N/A | T30: =H30 -> 2026 Forecasted Calendar Month Sales | U30: N/A
B31: (data rounded to nearest .01 %) | E31: =+E$13 -> RT{1} | F31: =+F$13 -> RS{2} | G31: =+G$13 -> GS{3} | H31: =+H$13 -> GST | I31: =+I$13 -> OL/SL | Q31: =+Q$13 -> RT{1} | R31: =+R$13 -> RS{2} | S31: =+S$13 -> GS{3} | T31: =+T$13 -> GST | U31: =+U$13 -> OL/SL
B33: January | E33: 0.3497 | F33: ---- | G33: ---- | H33: 0.4171 | I33: ---- | Q33: =1-E33 -> 0.6503 | T33: =1-H33 -> 0.5829
B34: February | E34: 0.3428 | F34: ---- | G34: ---- | H34: 0.4186 | I34: ---- | Q34: =1-E34 -> 0.6572 | T34: =1-H34 -> 0.5814
B35: March | E35: 0.3394 | F35: ---- | G35: ---- | H35: 0.4184 | I35: ---- | Q35: =1-E35 -> 0.6606 | T35: =1-H35 -> 0.5816
B36: April | E36: 0.3494 | F36: ---- | G36: ---- | H36: 0.4286 | I36: ---- | Q36: =1-E36 -> 0.6506 | T36: =1-H36 -> 0.5714
B37: May | E37: 0.3693 | F37: ---- | G37: ---- | H37: 0.4441 | I37: ---- | Q37: =1-E37 -> 0.6307 | T37: =1-H37 -> 0.5559
B38: June | E38: 0.4003 | F38: ---- | G38: ---- | H38: 0.4565 | I38: ---- | Q38: =1-E38 -> 0.5997 | T38: =1-H38 -> 0.5435
B39: July | E39: 0.4173 | F39: ---- | G39: ---- | H39: 0.4546 | I39: ---- | Q39: =1-E39 -> 0.5827 | T39: =1-H39 -> 0.5454
B40: August | E40: 0.4145 | F40: ---- | G40: ---- | H40: 0.4523 | I40: ---- | Q40: =1-E40 -> 0.5855 | T40: =1-H40 -> 0.5477
B41: September | E41: 0.3929 | F41: ---- | G41: ---- | H41: 0.4518 | I41: ---- | Q41: =1-E41 -> 0.6071 | T41: =1-H41 -> 0.5482
B42: October | E42: 0.3602 | F42: ---- | G42: ---- | H42: 0.4515 | I42: ---- | Q42: =1-E42 -> 0.6398 | T42: =1-H42 -> 0.5485
B43: November | E43: 0.3499 | F43: ---- | G43: ---- | H43: 0.4418 | I43: ---- | Q43: =1-E43 -> 0.6501 | T43: =1-H43 -> 0.5582
B44: December | E44: 0.3493 | F44: ---- | G44: ---- | H44: 0.4289 | I44: ---- | Q44: =1-E44 -> 0.6507 | T44: =1-H44 -> 0.5711
B46: {1} For BGS purposes the RT rate class includes the RS and GS rate class Off-Peak (OPWH) and Controlled Water Heating (CTWH) provisions. The RT rate class also includes the
B47: summer billing month RGT rate class usage. OPWH and CTWH is billed on the average RT rates, while RT and Summer RGT use is billed at on-peak and off-peak rates.
B48: {2} For BGS purposes the RS rate class excludes the Off-Peak and Controlled Water Heating provisions and includes
...

Sheet Composite Cost Allocation
B1: Jersey Central Power & Light
B2: Attachment 2
B3: ='BGS PTY25 Cost Alloc'!$B$3 -> 2027 BGS Auction Cost and Bid Factor Tables
B5: BGS-RSCP Composite Cost Allocation
A7: Table #C1 | B7: Post Transition Year 23 Costs w/o Transmission | E7: Size of Tranches = | F7: 18
B8: in $1,000's
B10: Total Costs by Rate - in $1000 | E10: RT{1} | F10: RS{2} | G10: GS{3} | H10: GST {4} | I10: OL/SL
B11: Summer - all hrs | E11: ='BGS PTY23 Cost Alloc'!E265 -> 307.61909 | G11: ='BGS PTY23 Cost Alloc'!G265 -> 257207.69 | I11: ='BGS PTY23 Cost Alloc'!I265 -> 3742.3122
B12: JCP&L On pk | E12: ='BGS PTY23 Cost Alloc'!E266 -> 4414.4337 | H12: ='BGS PTY23 Cost Alloc'!H266 -> 3842.5379
B13: JCP&L Off pk | E13: ='BGS PTY23 Cost Alloc'!E267 -> 3006.826 | H13: ='BGS PTY23 Cost Alloc'!H267 -> 2604.0216
B14: Block 1 (0-600 kWh/m) | F14: ='BGS PTY23 Cost Alloc'!F268 -> 265500.05
B15: Block 2 (>600 kWh/m) | F15: ='BGS PTY23 Cost Alloc'!F269 -> 281051.73
B17: Winter - all hrs | E17: ='BGS PTY23 Cost Alloc'!E271 -> 700.46096 | F17: ='BGS PTY23 Cost Alloc'!F271 -> 794462.26 | G17: ='BGS PTY23 Cost Alloc'!G271 -> 432298.44 | I17: ='BGS PTY23 Cost Alloc'!I271 -> 7250.9197
B18: JCP&L On pk | E18: ='BGS PTY23 Cost Alloc'!E272 -> 6941.9161 | H18: ='BGS PTY23 Cost Alloc'!H272 -> 6623.7982
B19: JCP&L Off pk | E19: ='BGS PTY23 Cost Alloc'!E273 -> 6537.0093 | H19: ='BGS PTY23 Cost Alloc'!H273 -> 5720.4828
B21: Total Costs - in $1000
B22: Summer | E22: =SUM(E11:E15) -> 7728.8787 | F22: =SUM(F11:F15) -> 546551.78 | G22: =SUM(G11:G15) -> 257207.69 | H22: =SUM(H11:H15) -> 6446.5595 | I22: =SUM(I11:I15) -> 3742.3122 | J22: =SUM(E22:I22) -> 821677.22
B23: Winter | E23: =SUM(E17:E19) -> 14179.386 | F23: =SUM(F17:F19) -> 794462.26 | G23: =SUM(G17:G19) -> 432298.44 | H23: =SUM(H17:H19) -> 12344.281 | I23: =SUM(I17:I19) -> 7250.9197 | J23: =SUM(E23:I23) -> 1260535.3
B24: Total | E24: =SUM(E22:E23) -> 21908.265 | F24: =SUM(F22:F23) -> 1341014 | G24: =SUM(G22:G23) -> 689506.13 | H24: =SUM(H22:H23) -> 18790.841 | I24: =SUM(I22:I23) -> 10993.232 | J24: =SUM(E24:I24) -> 2082212.5
A28: Table #C2 | B28: Post Transition Year 24 Costs w/o Transmission | E28: Size of Tranches = | F28: 15
B29: in $1,000's
B31: Total Costs by Rate - in $1000 | E31: RT{1} | F31: RS{2} | G31: GS{3} | H31: GST {4} | I31: OL/SL
B32: Summer - all hrs | E32: ='BGS PTY24 Cost Alloc'!E265 -> 297.36442 | G32: ='BGS PTY24 Cost Alloc'!G265 -> 247587.4 | I32: ='BGS PTY24 Cost Alloc'!I265 -> 3414.957
B33: JCP&L On pk | E33: ='BGS PTY24 Cost Alloc'!E266 -> 4484.4789 | H33: ='BGS PTY24 Cost Alloc'!H266 -> 3864.4561
B34: JCP&L Off pk | E34: ='BGS PTY24 Cost Alloc'!E267 -> 2689.4461 | H34: ='BGS PTY24 Cost Alloc'!H267 -> 2332.5968
B35: Block 1 (0-600 kWh/m) | F35: ='BGS PTY24 Cost Alloc'!F268 -> 257568.77
B36: Block 2 (>600 kWh/m) | F36: ='BGS PTY24 Cost Alloc'!F269 -> 273175.59
B38: Winter - all hrs | E38: ='BGS PTY24 Cost Alloc'!E271 -> 674.14185 | F38: ='BGS PTY24 Cost Alloc'!F271 -> 775087.04 | G38: ='BGS PTY24 Cost Alloc'!G271 -> 413135.81 | I38: ='BGS PTY24 Cost Alloc'!I271 -> 6663.0937
B39: JCP&L On pk | E39: ='BGS PTY24 Cost Alloc'!E272 -> 6960.4231 | H39: ='BGS PTY24 Cost Alloc'!H272 -> 6485.3668
B40: JCP&L Off pk | E40: ='BGS PTY24 Cost Alloc'!E273 -> 6011.8352 | H40: ='BGS PTY24 Cost Alloc'!H273 -> 5225.159
B42: Total Costs - in $1000
B43: Summer | E43: =SUM(E32:E36) -> 7471.2894 | F43: =SUM(F32:F36) -> 530744.36 | G43: =SUM(G32:G36) -> 247587.4 | H43: =SUM(H32:H36) -> 6197.0529 | I43: =SUM(I32:I36) -> 3414.957 | J43: =SUM(E43:I43) -> 795415.06
B44: Winter | E44: =SUM(E38:E40) -> 13646.4 | F44: =SUM(F38:F40) -> 775087.04 | G44: =SUM(G38:G40) -> 413135.81 | H44: =SUM(H38:H40) -> 11710.526 | I44: =SUM(I38:I40) -> 6663.0937 | J44: =SUM(E44:I44) -> 1220242.9
B45: Total | E45: =SUM(E43:E44) -> 21117.69 | F45: =SUM(F43:F44) -> 1305831.4 | G45: =SUM(G43:G44) -> 660723.21 | H45: =SUM(H43:H44) -> 17907.579 | I45: =SUM(I43:I44) -> 10078.051 | J45: =SUM(E45:I45) -> 2015657.9
B47: ='BGS PTY25 Cost Alloc'!B46 -> {1} For BGS purposes the RT rate class includes the RS and GS rate class Off-Peak (OPWH) and Controlled Water Heating (CTWH) provisions. The RT rate class also includes the
B48: ='BGS PTY25 Cost Alloc'!B47 -> summer billing month RGT rate class usage. OPWH and CTWH is billed on the average RT rates, while RT and Summer RGT use is billed at on-peak and off-peak rates.
B49: ='BGS PTY25 Cost Alloc'!B48 -> {2} For BGS purposes the RS rate class excludes the Off-Peak and Controlled Water Heating provisions and includes
B50: ='BGS PTY25 Cost Alloc'!B49 -> the winter billing month RGT rate class usage
B51: ='BGS PTY25 Cost Alloc'!B50 -> {3} For BGS purposes the GS rate class excludes the Off-Peak and Controlled Water Heating provisions
B52: ='BGS PTY25 Cost Alloc'!B101 -> {4} The GS and GST units exclude the units associated with the 500 kW and above PLS accounts that will be required to take service under BGS-CIEP
...

Sheet Attachment 3 - 27-28
B1: Jersey Central Power & Light
B2: Attachment 3 - Page 1of 3
B3: Development of Capacity Proxy Price True-Up $/MWh and Calculation of Composite BGS-RSCP Price
A5: Table A - 2027/2028 Delivery Year - Illustrative Only
C7: 2027/2028 Delivery Year for Winning Suppliers from 2025 BGS-RSCP Auction* | D7: Notes:
A8: 1 | B8: Zonal Capacity Price ($/MW-day) - JCPL Zone | C8: 333.69 | D8: PJM RPM BRA for delivery year 2027/2028 as illustration. Will be updated with Final PJM RPM.
A9: 2 | B9: Capacity Proxy Price ($/MW-day) | C9: 270.35 | D9: BGS Docket No. ER24030191 dated Nov. 21, 2024
A10: 3 | B10: Capacity Proxy Price True-Up - $/MW-day | C10: =C8-C9 -> 63.34 | D10: Line 1 - Line 2
A11: =A10+1 -> 4 | B11: Total BGS-RSCP Gen Obl - MW | C11: ='BGS PTY25 Cost Alloc'!J164 -> 4594.2897 | D11: Table #10 of the 2027 BGS Auction Cost and Bid Factor Tables
A12: =A11+1 -> 5 | B12: Days in BGS Delivery Year | C12: 366
A13: =A12+1 -> 6 | B13: Capacity Proxy Price True-Up Annual Cost | C13: =C10*C11*C12 -> 1.0650684e+08 | D13: = line 3 * line 4 * line 5
A14: =A13+1 -> 7 | B14: Eligible Tranches | C14: 18
A15: =A14+1 -> 8 | B15: Total Tranches | C15: =E38 -> 53
A16: =A15+1 -> 9 | B16: % of tranches eligible for Payment | C16: =C14/C15 -> 0.33962264 | D16: = line 7/ line 8
A17: =A16+1 -> 10 | B17: Capacity Proxy Price True-Up Cost | C17: =C13*C16 -> 36172136 | D17: = line 6 * line 9
A18: =A17+1 -> 11 | B18: Total Applicable Customer Usage @ transmission nodes - in MWh | C18: =F45+F46 -> 17593922 | D18: Table #14 * Table #6 from 2027 BGS Auction Cost and Bid Factor Tables - Illustrative Only
A19: =A18+1 -> 12 | B19: Eligible customer Usage @ transmission nodes - in MWh | C19: =C18*C16 -> 5975294.3 | D19: = line 9 * line 11
A20: =A19+1 -> 13 | B20: Capacity Proxy Price True-Up - $/MWh | C20: =ROUND(C17/C19,2) -> 6.05 | D20: = line 10 / line 12 (rounded to 2 decimal places)
A22: NJ Sales and Use Tax (SUT) excluded
A26: Calculation of Composite BGS-RSCP Price
A27: June 1, 2027 through May 31, 2028 - Illustrative Only
C29: BGS Post Transition Year 23 | D29: BGS Post Transition Year 24 | E29: BGS Post Transition Year 25 | F29: Total BGS-RSCP Cost
C30: 2025 Auction | D30: 2026 Auction | E30: 2027 Auction
C31: 1 Year Term Remaining | D31: 2 Year Term Remaining | E31: 3 Year Term
B33: Final Auction Price - in $/MWh | C33: 110.96 | D33: 113.27 | E33: =D35 -> 113.27
B34: Capacity Proxy Price True Up in $/MWH | C34: =C20 -> 6.05
C35: =C33+C34 -> 117.01 | D35: =D33+D34 -> 113.27 | E35: =E33+E34 -> 113.27
B36: Total # of Tranches
B37: Size of Tranches | C37: 18 | D37: 15 | E37: 20
B38: Total # of Tranches | C38: =C37+D37+E37 -> 53 | D38: =C38 -> 53 | E38: =C38 -> 53
B40: Seasonal Factors
B41: Summer | C41: 1 | D41: 1 | E41: 1
B42: Winter | C42: 1 | D42: 1 | E42: 1
B44: Applicable Customer Usage @ transmission node
B45: Summer MWh | C45: ='BGS PTY25 Cost Alloc'!N247 -> 6942874 | D45: =C45 -> 6942874 | E45: =D45 -> 6942874 | F45: =E45 -> 6942874
B46: Winter MWh | C46: ='BGS PTY25 Cost Alloc'!N248 -> 10651048 | D46: =C46 -> 10651048 | E46: =D46 -> 10651048 | F46: =E46 -> 10651048
B48: All-in BGS-RSCP Cost
B49: Summer | C49: =+C$33*C$37/C$38*C41*C45+C$34*C$37/C$38*C45 -> 2.7590457e+08 | D49: =+D$33*D$37/D$38*D41*D45+D$34*D$37/D$38*D45 -> 2.2257151e+08 | E49: =+E$33*E$37/E$38*E41*E45+E$34*E$37/E$38*E45 -> 2.9676201e+08 | F49: =SUM(C49:E49) -> 7.952381e+08
B50: Winter | C50: =+C$33*C$37/C$38*C42*C46+C$34*C$37/C$38*C46 -> 4.2326461e+08 | D50: =+D$33*D$37/D$38*D42*D46+D$34*D$37/D$38*D46 -> 3.4144647e+08 | E50: =+E$33*E$37/E$38*E42*E46+E$34*E$37/E$38*E46 -> 4.5526196e+08 | F50: =SUM(C50:E50) -> 1.219973e+09
B51: Total | C51: =+C50+C49 -> 6.9916918e+08 | D51: =+D50+D49 -> 5.6401798e+08 | E51: =+E50+E49 -> 7.5202398e+08 | F51: =+F50+F49 -> 2.0152111e+09
...

Sheet Attachment 3 - 28-29
B1: Jersey Central Power & Light
B2: Attachment 3 - Page 2 of 3
B3: Development of Capacity Proxy Price True-Up $/MWh and Calculation of Composite BGS-RSCP Price
A5: Table A - 2028/2029 Delivery Year - Illustrative Only
C7: 2028/2029 Delivery Year for Winning Suppliers from 2026 BGS-RSCP Auction | D7: 2028/2029 Delivery Year for Winning Suppliers from 2027 BGS-RSCP Auction | E7: Notes:
A8: 1 | B8: Zonal Capacity Price ($/MW-day) - JCPL Zone | C8: 335 | D8: 335 | E8: Illustration Only
A9: 2 | B9: Capacity Proxy Price ($/MW-day) | C9: 333.69 | D9: 333.69 | E9: Per BPU Docket No. ER25040190, dated Nov. 21, 2025 and ER26040105, dated xxxxxx,2026
A10: 3 | B10: Capacity Proxy Price True-Up - $/MW-day | C10: =C8-C9 -> 1.31 | D10: =D8-D9 -> 1.31 | E10: Line 1 - Line2
A11: =A10+1 -> 4 | B11: Total BGS-RSCP Gen Obl - MW | C11: ='BGS PTY25 Cost Alloc'!J164 -> 4594.2897 | D11: =C11 -> 4594.2897 | E11: Table #10 of the 2027 BGS Auction Cost and Bid Factor Tables
A12: =A11+1 -> 5 | B12: Days in BGS Delivery Year | C12: 365 | D12: =C12 -> 365
A13: =A12+1 -> 6 | B13: Capacity Proxy Price True-Up Annual Cost | C13: =C10*C11*C12 -> 2196759.6 | D13: =D10*D11*D12 -> 2196759.6 | E13: = line 3 * line 4 * line 5
A14: =A13+1 -> 7 | B14: Eligible Tranches | C14: 15 | D14: 20
A15: =A14+1 -> 8 | B15: Total Tranches | C15: =E38 -> 53 | D15: =C15 -> 53
A16: =A15+1 -> 9 | B16: % of tranches eligible for Payment | C16: =C14/C15 -> 0.28301887 | D16: =D14/D15 -> 0.37735849 | E16: = line 7/ line 8
A17: =A16+1 -> 10 | B17: Capacity Proxy Price True-Up Cost | C17: =C13*C16 -> 621724.41 | D17: =D13*D16 -> 828965.89 | E17: = line 6 * line 9
A18: =A17+1 -> 11 | B18: Total Applicable Customer Usage @ transmission nodes - in MWh | C18: =F45+F46 -> 17593922 | D18: =C18 -> 17593922 | E18: Table #14 * Table #6 from 2027 BGS Auction Cost and Bid Factor Tables
A19: =A18+1 -> 12 | B19: Eligible customer Usage @ transmission nodes - in MWh | C19: =C18*C16 -> 4979411.9 | D19: =D18*D16 -> 6639215.8 | E19: = line 9 * line 11
A20: =A19+1 -> 13 | B20: Capacity Proxy Price True-Up - $/MWh | C20: =ROUND(C17/C19,2) -> 0.12 | D20: =ROUND(D17/D19,2) -> 0.12 | E20: = line 10 / line 12 (rounded to 2 decimal places)
A22: NJ Sales and Use Tax (SUT) excluded
A26: Calculation of Composite BGS-RSCP Price
A27: June 1, 2028 through May 31, 2029 - Illustrative Only
C29: BGS Post Transition Year 24 | D29: BGS Post Transition Year 25 | E29: BGS Post Transition Year 26 | F29: Total BGS-RSCP Cost
C30: 2026 Auction | D30: 2027 Auction | E30: 2028 Auction
C31: 1 Year Term Remaining | D31: 2 Year Term Remaining | E31: 3 Year Term
B33: Final Auction Price - in $/MWh | C33: ='Attachment 3 - 27-28'!D33 -> 113.27 | D33: ='Attachment 3 - 27-28'!E33 -> 113.27 | E33: =D35 -> 113.39
B34: Capacity Proxy Price True Up in $/MWH | C34: =C20 -> 0.12 | D34: =D20 -> 0.12
C35: =C33+C34 -> 113.39 | D35: =D33+D34 -> 113.39 | E35: =E33+E34 -> 113.39
B36: Total # of Tranches
B37: Size of Tranches | C37: 15 | D37: 20 | E37: 18
B38: Total # of Tranches | C38: =C37+D37+E37 -> 53 | D38: =C38 -> 53 | E38: =C38 -> 53
B40: Seasonal Factors
B41: Summer | C41: 1 | D41: 1 | E41: 1
B42: Winter | C42: 1 | D42: 1 | E42: 1
B44: Applicable Customer Usage @ transmission node
B45: Summer MWh | C45: ='BGS PTY25 Cost Alloc'!N247 -> 6942874 | D45: =C45 -> 6942874 | E45: =D45 -> 6942874 | F45: =E45 -> 6942874
B46: Winter MWh | C46: ='BGS PTY25 Cost Alloc'!N248 -> 10651048 | D46: =C46 -> 10651048 | E46: =D46 -> 10651048 | F46: =E46 -> 10651048
B48: All-in BGS-RSCP Cost
B49: Summer | C49: =+C$33*C$37/C$38*C41*C45+C$34*C$37/C$38*C45 -> 2.2280731e+08 | D49: =+D$33*D$37/D$38*D41*D45+D$34*D$37/D$38*D45 -> 2.9707641e+08 | E49: =+E$33*E$37/E$38*E41*E45+E$34*E$37/E$38*E45 -> 2.6736877e+08 | F49: =SUM(C49:E49) -> 7.8725248e+08
B50: Winter | C50: =+C$33*C$37/C$38*C42*C46+C$34*C$37/C$38*C46 -> 3.4180821e+08 | D50: =+D$33*D$37/D$38*D42*D46+D$34*D$37/D$38*D46 -> 4.5574428e+08 | E50: =+E$33*E$37/E$38*E42*E46+E$34*E$37/E$38*E46 -> 4.1016985e+08 | F50: =SUM(C50:E50) -> 1.2077223e+09
B51: Total | C51: =+C50+C49 -> 5.6461551e+08 | D51: =+D50+D49 -> 7.5282069e+08 | E51: =+E50+E49 -> 6.7753862e+08 | F51: =+F50+F49 -> 1.9949748e+09
...

Sheet Attachment 3 - 29-30
B1: Jersey Central Power & Light
B2: Attachment 3 - Page 3 of 3
B3: Development of Capacity Proxy Price True-Up $/MWh and Calculation of Composite BGS-RSCP Price
A5: Table A - 2029/2030 Delivery Year - Illustrative Only
C7: 2029/2030 Delivery Year for Winning Suppliers from 2027 BGS-RSCP Auction | D7: Notes:
A8: 1 | B8: Zonal Capacity Price ($/MW-day) - JCPL Zone | C8: 335 | D8: Illustration Only
A9: 2 | B9: Capacity Proxy Price ($/MW-day) | C9: 333.69 | D9: Per Board Order ER26040105, dated xxxxxx,2026
A10: 3 | B10: Capacity Proxy Price True-Up - $/MW-day | C10: =C8-C9 -> 1.31 | D10: Line 1 - Line2
A11: =A10+1 -> 4 | B11: Total BGS-RSCP Gen Obl - MW | C11: ='BGS PTY25 Cost Alloc'!J164 -> 4594.2897 | D11: Table #10 of the 2027 BGS Auction Cost and Bid Factor Tables
A12: =A11+1 -> 5 | B12: Days in BGS Delivery Year | C12: 365
A13: =A12+1 -> 6 | B13: Capacity Proxy Price True-Up Annual Cost | C13: =C10*C11*C12 -> 2196759.6 | D13: = line 3 * line 4 * line 5
A14: =A13+1 -> 7 | B14: Eligible Tranches | C14: 20
A15: =A14+1 -> 8 | B15: Total Tranches | C15: =E38 -> 53
A16: =A15+1 -> 9 | B16: % of tranches eligible for Payment | C16: =C14/C15 -> 0.37735849 | D16: = line 7/ line 8
A17: =A16+1 -> 10 | B17: Capacity Proxy Price True-Up Cost | C17: =C13*C16 -> 828965.89 | D17: = line 6 * line 9
A18: =A17+1 -> 11 | B18: Total Applicable Customer Usage @ transmission nodes - in MWh | C18: =F45+F46 -> 17593922 | D18: Table #14 * Table #6 from 2027 BGS Auction Cost and Bid Factor Tables
A19: =A18+1 -> 12 | B19: Eligible customer Usage @ transmission nodes - in MWh | C19: =C18*C16 -> 6639215.8 | D19: = line 9 * line 11
A20: =A19+1 -> 13 | B20: Capacity Proxy Price True-Up - $/MWh | C20: =ROUND(C17/C19,2) -> 0.12 | D20: = line 10 / line 12 (rounded to 2 decimal places)
A22: NJ Sales and Use Tax (SUT) excluded
A26: Calculation of Composite BGS-RSCP Price
A27: June 1, 2029 through May 31, 2030 - Illustration Only
C29: BGS Post Transition Year 25 | D29: BGS Post Transition Year 26 | E29: BGS Post Transition Year 27 | F29: Total BGS-RSCP Cost
C30: 2027 Auction | D30: 2028 Auction | E30: 2029 Auction
C31: 1 Year Term Remaining | D31: 2 Year Term Remaining | E31: 3 Year Term
B33: Final Auction Price - in $/MWh | C33: ='Attachment 3 - 27-28'!E33 -> 113.27 | D33: ='Attachment 3 - 28-29'!E33 -> 113.39 | E33: =D35 -> 113.39
B34: Capacity Proxy Price True Up in $/MWH | C34: =C20 -> 0.12
C35: =C33+C34 -> 113.39 | D35: =D33+D34 -> 113.39 | E35: =E33+E34 -> 113.39
B36: Total # of Tranches
B37: Size of Tranches | C37: 20 | D37: 18 | E37: 15
B38: Total # of Tranches | C38: =C37+D37+E37 -> 53 | D38: =C38 -> 53 | E38: =C38 -> 53
B40: Seasonal Factors
B41: Summer | C41: 1 | D41: 1 | E41: 1
B42: Winter | C42: 1 | D42: 1 | E42: 1
B44: Applicable Customer Usage @ transmission node
B45: Summer MWh | C45: ='BGS PTY25 Cost Alloc'!N247 -> 6942874 | D45: =C45 -> 6942874 | E45: =D45 -> 6942874 | F45: =E45 -> 6942874
B46: Winter MWh | C46: ='BGS PTY25 Cost Alloc'!N248 -> 10651048 | D46: =C46 -> 10651048 | E46: =D46 -> 10651048 | F46: =E46 -> 10651048
B48: All-in BGS-RSCP Cost
B49: Summer | C49: =+C$33*C$37/C$38*C41*C45+C$34*C$37/C$38*C45 -> 2.9707641e+08 | D49: =+D$33*D$37/D$38*D41*D45+D$34*D$37/D$38*D45 -> 2.6736877e+08 | E49: =+E$33*E$37/E$38*E41*E45+E$34*E$37/E$38*E45 -> 2.2280731e+08 | F49: =SUM(C49:E49) -> 7.8725248e+08
B50: Winter | C50: =+C$33*C$37/C$38*C42*C46+C$34*C$37/C$38*C46 -> 4.5574428e+08 | D50: =+D$33*D$37/D$38*D42*D46+D$34*D$37/D$38*D46 -> 4.1016985e+08 | E50: =+E$33*E$37/E$38*E42*E46+E$34*E$37/E$38*E46 -> 3.4180821e+08 | F50: =SUM(C50:E50) -> 1.2077223e+09
B51: Total | C51: =+C50+C49 -> 7.5282069e+08 | D51: =+D50+D49 -> 6.7753862e+08 | E51: =+E50+E49 -> 5.6461551e+08 | F51: =+F50+F49 -> 1.9949748e+09
...
